BEGIN:VCALENDAR
VERSION:2.0
PRODID:-//eventon.com NONSGML v1.0//EN
CALSCALE:GREGORIAN
METHOD:PUBLISH
BEGIN:VEVENT
UID:69e9ed2e37f7c
DTSTAMP:20260423T095806Z
DTSTART:20260919T070000Z
DTEND:20260919T160000Z
LOCATION:
SUMMARY:Finale Wedstrijd NK F3A/B/C Klasse
DESCRIPTION:Finale Wedstrijd NK F3A/B/C Klasse\nhttps://deltaoss.nl/events/
 finale-nk-f3a/
URL:https://deltaoss.nl/events/finale-nk-f3a/
END:VEVENT
END:VCALENDAR