BEGIN:VCALENDAR
VERSION:2.0
PRODID:-//eventon.com NONSGML v1.0//EN
CALSCALE:GREGORIAN
METHOD:PUBLISH
BEGIN:VEVENT
UID:69e7527fb8fbf
DTSTAMP:20260421T103335Z
DTSTART:20260627T050000Z
DTEND:20260628T160000Z
LOCATION:
SUMMARY:12e Editie van de F3A Lowlandcup Competition
DESCRIPTION:12e Editie van de F3A Lowlandcup Competition\nhttps://deltaoss.
 nl/events/f3a-lowlandcup-competition/
URL:https://deltaoss.nl/events/f3a-lowlandcup-competition/
END:VEVENT
END:VCALENDAR