BEGIN:VCALENDAR
VERSION:2.0
PRODID:-//eventon.com NONSGML v1.0//EN
CALSCALE:GREGORIAN
METHOD:PUBLISH
BEGIN:VEVENT
UID:69e7532e38ffc
DTSTAMP:20260421T103630Z
DTSTART:20260606T080000Z
DTEND:20260606T180000Z
LOCATION:
SUMMARY:Fly-Inn
DESCRIPTION:Fly-Inn\nhttps://deltaoss.nl/events/fly-inn/
URL:https://deltaoss.nl/events/fly-inn/
END:VEVENT
END:VCALENDAR